BEGIN:VCALENDAR
VERSION:2.0
PRODID:-//Motocare - ECPv6.8.3//NONSGML v1.0//EN
CALSCALE:GREGORIAN
METHOD:PUBLISH
X-WR-CALNAME:Motocare
X-ORIGINAL-URL:https://www.ktmpower.be
X-WR-CALDESC:Events for Motocare
REFRESH-INTERVAL;VALUE=DURATION:PT1H
X-Robots-Tag:noindex
X-PUBLISHED-TTL:PT1H
BEGIN:VTIMEZONE
TZID:UTC
BEGIN:STANDARD
TZOFFSETFROM:+0000
TZOFFSETTO:+0000
TZNAME:UTC
DTSTART:20220101T000000
END:STANDARD
END:VTIMEZONE
BEGIN:VEVENT
DTSTART;VALUE=DATE:20230430
DTEND;VALUE=DATE:20230501
DTSTAMP:20260423T150222
CREATED:20230124T124737Z
LAST-MODIFIED:20230323T131558Z
UID:1645-1682812800-1682899199@www.ktmpower.be
SUMMARY:Rijvaardigheidstraining Advanced
DESCRIPTION:Geniet voor slechts 99 euro van een dagopleiding waarin je leert hoe je op een veilige manier met de motor op de openbare weg rijdt. \nLees er hier meer over.  \nKlik hier om je in te schrijven.
URL:https://www.ktmpower.be/event/rijvaardigheidstraining-advanced/
LOCATION:Rozenkranslaan 37\, Rozenkranslaan 37\, Genk\, Limburg\, 3600\, Belgium
CATEGORIES:KTM,Motocare
ORGANIZER;CN="Street Academy":MAILTO:info@streetacademy.be
END:VEVENT
BEGIN:VEVENT
DTSTART;VALUE=DATE:20230415
DTEND;VALUE=DATE:20230417
DTSTAMP:20260423T150222
CREATED:20230124T125750Z
LAST-MODIFIED:20230323T124346Z
UID:1647-1681516800-1681689599@www.ktmpower.be
SUMMARY:Groot testweekend bij Motocare
DESCRIPTION:Dit weekend slaan KTM Belgium en Motocare de handen in elkaar om er een groots testweekend van te maken.\nElk model zal gedurende de hele zaterdag en zondag te testen zijn.\nOok de Mobiele Seingevers zullen weer hun beste beentje voorzetten om dit weekend op een fijne en veilige manier te laten verlopen. \nKortom\, je zal ook dit jaar weer op een veilige en fijne manier kunnen ontdekken hoe een KTM rijdt en welke KTM het beste bij jou past. \nKlik hier om je in te schrijven\nEnkel voor zaterdag voorinschrijvingen mogelijk.
URL:https://www.ktmpower.be/event/groot-testweekend-bij-motocare/
LOCATION:Motocare\, Diestsesteenweg\, TIELT-WINGE\, Vlaams-Brabant\, 3390\, Belgium
CATEGORIES:KTM,Motocare
END:VEVENT
BEGIN:VEVENT
DTSTART;VALUE=DATE:20230326
DTEND;VALUE=DATE:20230327
DTSTAMP:20260423T150222
CREATED:20230124T124114Z
LAST-MODIFIED:20230323T121021Z
UID:1642-1679788800-1679875199@www.ktmpower.be
SUMMARY:Dag van de Motorrijder Borgloon
DESCRIPTION:Motocare ondersteunt ook dit jaar de Dag van de Motorrijder en zal aanwezig zijn in Borgloon. Volgende KTM’s zijn er te testen: \n\n390 ADVENTURE\n890 ADVENTURE\n1290 SUPER ADVENTURE S\n790 DUKE
URL:https://www.ktmpower.be/event/dag-van-de-motorrijder-borgloon/
LOCATION:Kernielerweg 59\, Kernielerweg 59\, Borgloon\, Limburg\, 3840
CATEGORIES:KTM,Motocare
ORGANIZER;CN="Dag van de Motorrijder":MAILTO:readytoride@vsv.be
END:VEVENT
BEGIN:VEVENT
DTSTART;VALUE=DATE:20220301
DTEND;VALUE=DATE:20220302
DTSTAMP:20260423T150222
CREATED:20220125T074543Z
LAST-MODIFIED:20220125T074543Z
UID:141-1646092800-1646179199@www.ktmpower.be
SUMMARY:Launch nieuwe website
DESCRIPTION:
URL:https://www.ktmpower.be/event/launch-nieuwe-website/
LOCATION:Limburg
CATEGORIES:Motocare
END:VEVENT
END:VCALENDAR